BEGIN:VCALENDAR
VERSION:2.0
PRODID:-//NAEH - ECPv6.15.20//NONSGML v1.0//EN
CALSCALE:GREGORIAN
METHOD:PUBLISH
X-ORIGINAL-URL:https://naehonline.org
X-WR-CALDESC:Events for NAEH
REFRESH-INTERVAL;VALUE=DURATION:PT1H
X-Robots-Tag:noindex
X-PUBLISHED-TTL:PT1H
BEGIN:VTIMEZONE
TZID:America/New_York
BEGIN:DAYLIGHT
TZOFFSETFROM:-0500
TZOFFSETTO:-0400
TZNAME:EDT
DTSTART:20240310T070000
END:DAYLIGHT
BEGIN:STANDARD
TZOFFSETFROM:-0400
TZOFFSETTO:-0500
TZNAME:EST
DTSTART:20241103T060000
END:STANDARD
BEGIN:DAYLIGHT
TZOFFSETFROM:-0500
TZOFFSETTO:-0400
TZNAME:EDT
DTSTART:20250309T070000
END:DAYLIGHT
BEGIN:STANDARD
TZOFFSETFROM:-0400
TZOFFSETTO:-0500
TZNAME:EST
DTSTART:20251102T060000
END:STANDARD
BEGIN:DAYLIGHT
TZOFFSETFROM:-0500
TZOFFSETTO:-0400
TZNAME:EDT
DTSTART:20260308T070000
END:DAYLIGHT
BEGIN:STANDARD
TZOFFSETFROM:-0400
TZOFFSETTO:-0500
TZNAME:EST
DTSTART:20261101T060000
END:STANDARD
BEGIN:DAYLIGHT
TZOFFSETFROM:-0500
TZOFFSETTO:-0400
TZNAME:EDT
DTSTART:20270314T070000
END:DAYLIGHT
BEGIN:STANDARD
TZOFFSETFROM:-0400
TZOFFSETTO:-0500
TZNAME:EST
DTSTART:20271107T060000
END:STANDARD
END:VTIMEZONE
BEGIN:VEVENT
DTSTART;TZID=America/New_York:20250819T090000
DTEND;TZID=America/New_York:20260521T173000
DTSTAMP:20260423T062153
CREATED:20250826T184711Z
LAST-MODIFIED:20250826T184714Z
UID:10000123-1755594000-1779384600@naehonline.org
SUMMARY:A Biofield Science Master Class: Mastering the Art of Esoteric Healing (Online) Jen Wolffis\, MSPT\, CPEH
DESCRIPTION:In 2 semesters complete Parts 1-4 Esoteric Healing\, preparing you to apply to become a Certified Practitioner of Esoteric Healing. Online videos and “live” Zoom classes. Follow the link to Jen’s website for more information and registration. Fall Master Class starts Aug 19\, 2025 and ends May 21\, 2026! \n\n\n\nClick Here to learn more.
URL:https://naehonline.org/event/a-biofield-science-masterclass-p1/
CATEGORIES:Esoteric Healing Class
ATTACH;FMTTYPE=image/jpeg:https://naehonline.org/wp-content/uploads/2025/07/pexels-noellegracephotos-906097.jpg
ORGANIZER;CN="Jen Wolffis%2C  MSPT%2C CPEH":MAILTO:HeartGuidedHealing@gmail.com
END:VEVENT
BEGIN:VEVENT
DTSTART;TZID=America/New_York:20260112T090000
DTEND;TZID=America/New_York:20261210T173000
DTSTAMP:20260423T062153
CREATED:20250826T183447Z
LAST-MODIFIED:20250826T183449Z
UID:10000120-1768208400-1796923800@naehonline.org
SUMMARY:A Biofield Science Master Class: Mastering the Art of Esoteric Healing (Online) Jen Wolffis\, MSPT\, CPEH
DESCRIPTION:In 2 semesters complete Parts 1-4 Esoteric Healing\, preparing you to apply to become a Certified Practitioner of Esoteric Healing. Online videos and “live” Zoom classes. Follow the link to Jen’s website for more information and registration. Fall Master Class starts Aug 19\, 2025 and ends May 21\, 2026! \n\n\n\nClick Here to learn more.
URL:https://naehonline.org/event/a-biofield-science-masterclass-p2/
CATEGORIES:Esoteric Healing Class
ATTACH;FMTTYPE=image/jpeg:https://naehonline.org/wp-content/uploads/2025/07/pexels-noellegracephotos-906097.jpg
ORGANIZER;CN="Jen Wolffis%2C  MSPT%2C CPEH":MAILTO:HeartGuidedHealing@gmail.com
END:VEVENT
BEGIN:VEVENT
DTSTART;TZID=America/New_York:20260316T090000
DTEND;TZID=America/New_York:20260521T180000
DTSTAMP:20260423T062153
CREATED:20250813T004957Z
LAST-MODIFIED:20250813T005313Z
UID:10000117-1773651600-1779386400@naehonline.org
SUMMARY:Esoteric Healing - Part 4 (Online)
DESCRIPTION:Esoteric Healing – Part 4 is designed for those ready to refine and expand their skills and go even deeper into working with energy in the Head Center\, learning advanced triangle techniques to help balance more areas of the energy body. \n\n\n\nYou’ll also explore more about the human system through additional basic anatomy and deepen your understanding of how energy moves and transforms through the higher centers. \n\n\n\nA few of the philosophical topics include: \n\n\n\n\nEsoteric Psychology and how it relates to healing\n\n\n\nUnderstanding Glamour and Illusion and how they affect our perception and energy\n\n\n\nA deeper dive into The Seven Rays and their influence on personality and soul\n\n\n\nReflecting on why we feel called to be healers\, and what true service looks like\n\n\n\n\nAfter completion of these first four level classes\, students\, if interested\, are eligible to apply for the process to become a Certified Practitioner of Esoteric Healing. \n\n\n\nStudents are now also eligible to advance to the higher level of Esoteric Healing classes. Here we begin working in the spiritual levels of the Constitution of the Human Being. The energy levels of the spiritual triad and the monad – our I AM Presence. This all includes learning more about our higher spiritual anatomy and how the energy of these higher spiritual energy bodies also affect our mind\, emotions\, and physical body. \n\n\n\nPrerequisite: Completion of Esoteric Healing – Part 3 \n\n\n\nClass kicks off March 16\, 2026 with self-paced video modules followed by “live” Zoom classes on April 18 & May 7 (9am-6pm)\, May 12\, & May 21 (5:30-8).This class is split into modules. Each module includes videos followed by a “live” Zoom class. Great content\, covering Esoteric Psychology\, the immune system with a full immune protocol\, a comprehensive anxiety protocol integrating cranial work\, work on the senses\, ears (hearing\, balance\, dizziness)\, glamours\, cranial nerves\, trigeminal nerves (how we face the world)\, a deep dive into the Rays and soooo much more. Esoteric CranioSacral work is added throughout the course. \n\n\n\nClick Here for more information
URL:https://naehonline.org/event/esoteric-healing-part-4-online-2/
CATEGORIES:Esoteric Healing - Part 4,Virtual Event
ATTACH;FMTTYPE=image/jpeg:https://naehonline.org/wp-content/uploads/2025/04/AdobeStock_609801802.jpg
ORGANIZER;CN="Jen Wolffis%2C  MSPT%2C CPEH":MAILTO:HeartGuidedHealing@gmail.com
END:VEVENT
BEGIN:VEVENT
DTSTART;TZID=America/New_York:20260323T090000
DTEND;TZID=America/New_York:20260604T173000
DTSTAMP:20260423T062153
CREATED:20260203T224039Z
LAST-MODIFIED:20260203T224041Z
UID:10000253-1774256400-1780594200@naehonline.org
SUMMARY:Part 2 Esoteric Healing Jen Wolffis\, PT\, CPEH\, Accredited NAEH Teacher of Esoteric Healing
DESCRIPTION:Part 2 online self-paced video lessons start March 23 (and live Zoom kick-off mtg)Then join “live” Zoom classes May 29\, 30\, 31 – 9:00-5:30pm EST and June 4\, 5:30-8 to learn the practical techniques.Follow this link for class information and registration: https://www.heartguidedhealing.com/copy-of-part-1-information
URL:https://naehonline.org/event/part-2-esoteric-healing-jen-wolffis-pt-cpeh-accredited-naeh-teacher-of-esoteric-healing/
ORGANIZER;CN="Jen Wolffis%2C  MSPT%2C CPEH":MAILTO:HeartGuidedHealing@gmail.com
END:VEVENT
BEGIN:VEVENT
DTSTART;TZID=America/New_York:20260425T130000
DTEND;TZID=America/New_York:20260509T143000
DTSTAMP:20260423T062153
CREATED:20260228T194206Z
LAST-MODIFIED:20260228T195425Z
UID:10000258-1777122000-1778337000@naehonline.org
SUMMARY:Coherence: An Esoteric Healing Approach to Craniosacral Therapy and Neurologic Health - Fran Oppenheimer (CPEH\, Esoteric Healing Teacher\, LMT\, RN)
DESCRIPTION:Coherence: An Esoteric Healing Approach to Craniosacral Therapy and Neurologic Health presents an Esoteric Healing approach and protocol\, originally developed by Dr. Barbara J. Briner DO\, to address energetic imbalances in the craniosacral system\, the brain\, and nervous system. The craniosacral system consists of the bones of the cranium\, the sacrum\, the brain and spinal cord\, and the connective tissue covering of the brain and spinal cord. The craniosacral system has an inherent movement and rhythm which supports the health and vitality of the entire being. When there is disruption or imbalance in this rhythm it can lead to imbalance in other body systems.In this course you will learn Dr. Briner’s original system of bringing balance to the craniosacral system\, as well as some expanded content and application for this protocol. This information and method will enhance your understanding of the craniosacral system and how Esoteric Healing may be applied in various situations to support the optimal well-being of the client. \n\n\n\nThe student will:• Learn the basic anatomy and function of the cranial bones and lobes of the brain\, as well as several other structures of the brain and nervous system.• Learn about cranial motion and its impact on health.• Learn an esoteric healing protocol based on craniosacral therapy to restore optimal energetic balance and flow to the cranium\, brain and nervous system.• Explore the application of this esoteric healing protocol for the injured brain\, emotional brain\, learning brain and motor brain. \n\n\n\nThis class includes 9 self-paced videos that are viewable over a 2 week period after which there will be a one day live class on Zoom where we will learn and practice a number of esoteric healing protocols related to class content. \n\n\n\nClick here for flyer
URL:https://naehonline.org/event/coherence-an-esoteric-healing-approach-to-craniosacral-therapy-and-neurologic-health-fran-oppenheimer-cpeh-esoteric-healing-teacher-lmt-rn/
CATEGORIES:Deepening Class
ORGANIZER;CN="Fran Oppenheimer":MAILTO:esotericfran@gmail.com
END:VEVENT
BEGIN:VEVENT
DTSTART;TZID=America/New_York:20260507T140000
DTEND;TZID=America/New_York:20260507T143000
DTSTAMP:20260423T062153
CREATED:20260411T144411Z
LAST-MODIFIED:20260411T145341Z
UID:10000264-1778162400-1778164200@naehonline.org
SUMMARY:Free Group Esoteric Healing Session
DESCRIPTION:The free Group Esoteric Healing sessions will be provided by a group of formally trained Esoteric Healing practitioners. There is no charge for these group sessions; however\, you agree to complete an anonymous feedback form that will be emailed to you a few days after the session. \n\n\n\nPractitioners providing these Group Esoteric Healing sessions will facilitate a sense of balance in the subtle energy field that surrounds the physical body. This process occurs according to the Will of the client’s Soul and may help the body begin the process of self-healing. Self-healing may happen at the physical\, emotional\, mental\, and/or spiritual level of a client. \n\n\n\nThere is nothing special for you to do to receive the benefits of these Group Esoteric Healing sessions. There is no online link for you to join – these are distance sessions. You may choose to sit quietly during the stated session time\, or it is ok if you need to continue to work or travel. If you forget\, not to worry. Whatever your reason\, when you register\, we have your name and you will be included in the Group Esoteric Healing session. \n\n\n\nThe group sessions will last for 30 minutes. \n\n\n\nRegistration Opens: Saturday prior to the session date.  See flyer for registration link.Registration Closes: 11:45 pm ET the night before the event \n\n\n\nGroup Esoteric Healing Session Flyer
URL:https://naehonline.org/event/free-group-esoteric-healing-session-14/
CATEGORIES:Group Esoteric Healing Sessions
ATTACH;FMTTYPE=image/png:https://naehonline.org/wp-content/uploads/2025/07/Bonnie_InSession-copy.png
ORGANIZER;CN="Bonnie Dysinger%2C M.Sc%2C CPEH%2C CHHP%2C C.Ht.":MAILTO:bonnie@bonniedysinger.com
END:VEVENT
END:VCALENDAR